BEGIN:VCALENDAR
VERSION:2.0
PRODID:-//wp-events-plugin.com//7.2.3.1//EN
TZID:America/Los_Angeles
X-WR-TIMEZONE:America/Los_Angeles
BEGIN:VEVENT
UID:79@artwithelders.org
DTSTART;TZID=America/Los_Angeles:20260613T140000
DTEND;TZID=America/Los_Angeles:20260613T160000
DTSTAMP:20260317T180140Z
URL:https://www.artwithelders.org/events/awe-33rd-annual-exhibit-opening-e
 vent/
SUMMARY:AWE 33rd Annual Exhibit Opening Event
DESCRIPTION:Please join us for our in person 33rd Annual Exhibit Opening Ev
 ent! More than 100 artworks by students participating in AWE classes will 
 be on exhibit. The event is free and open to the public. A donation at the
  door is requested\, but not required. Light refreshments will be served. 
 The venue is wheelchair accessible and free parking is available. Thank yo
 u to our juror S.F. Bay Area artist Gay Outlaw.\nPlease let us know if you
  and your community will be joining us\, RSVP to darcie@artwithelders.org.
 \nCover Art: "Still Life with Lemons" by Bea Bergerman - The Reutlinger Co
 mmunity
ATTACH;FMTTYPE=image/jpeg:https://www.artwithelders.org/wp-content/uploads
 /Reutlinger-Bea-Bergerman-Still-life-with-Lemons-14-x-11.jpeg
CATEGORIES:Annual Exhibits,Art Opening,Events,Featured
END:VEVENT
BEGIN:VTIMEZONE
TZID:America/Los_Angeles
X-LIC-LOCATION:America/Los_Angeles
BEGIN:DAYLIGHT
DTSTART:20260308T030000
TZOFFSETFROM:-0800
TZOFFSETTO:-0700
TZNAME:PDT
END:DAYLIGHT
END:VTIMEZONE
END:VCALENDAR