BEGIN:VCALENDAR
VERSION:2.0
PRODID:-//wp-events-plugin.com//7.2.3.1//EN
TZID:America/Los_Angeles
X-WR-TIMEZONE:America/Los_Angeles
BEGIN:VEVENT
UID:17@artwithelders.org
DTSTART;TZID=America/Los_Angeles:20201105T140000
DTEND;TZID=America/Los_Angeles:20201118T150000
DTSTAMP:20201026T213309Z
URL:https://www.artwithelders.org/events/awe-with-well-connected/
SUMMARY:AWE with Well Connected
DESCRIPTION:In November\, we will be offering 3 presentations on Covia's We
 ll Connected program:\n11/5 Art With Elders: Annual Exhibit Highlights\nHi
 ghlights from the 30-year history of the AWE program and it's Annual Exhib
 it.\nPresented by Art with Elders Executive Director Mark Campbell and Exh
 ibits Manager Darcie O'Brien\n \n11/12  Creative Environments\nTeaching 
 artists and participants discuss building and nurturing deep relationships
  in a creative environment.\nPresented by Art with Elders Artist Instructo
 rs and Artist Participants\n \n11/18 Student-Directed Creative Learning \
 nTeaching artists and participants discuss the benefits of student-directe
 d creative learning experiences.\nPresented by Art with Elders Artist Inst
 ructors and Artist Participants\nFor more information and to sign up\, ple
 ase visit Covia Well Connected at:\nhttps://covia.org/services/well-connec
 ted/
ATTACH;FMTTYPE=image/jpeg:https://www.artwithelders.org/wp-content/uploads
 /C1F2E8D8-B40E-4C8C-A389-F25C91333CA7_1_105_c.jpeg
CATEGORIES:Annual Exhibits,Online Exhibits,Presentations
END:VEVENT
BEGIN:VTIMEZONE
TZID:America/Los_Angeles
X-LIC-LOCATION:America/Los_Angeles
BEGIN:STANDARD
DTSTART:20201101T010000
TZOFFSETFROM:-0700
TZOFFSETTO:-0800
TZNAME:PST
END:STANDARD
END:VTIMEZONE
END:VCALENDAR