BEGIN:VCALENDAR
VERSION:2.0
PRODID:-//wp-events-plugin.com//7.2.3.1//EN
TZID:America/Los_Angeles
X-WR-TIMEZONE:America/Los_Angeles
BEGIN:VEVENT
UID:15@artwithelders.org
DTSTART;TZID=America/Los_Angeles;VALUE=DATE:20200915
DTEND;TZID=America/Los_Angeles;VALUE=DATE:20201116
DTSTAMP:20200913T182813Z
URL:https://www.artwithelders.org/events/community-partner-feature-the-reu
 tlinger-community/
SUMMARY:Community Partner Feature - The Reutlinger Community
DESCRIPTION:This exhibit features the artists of the Reutlinger Community\,
  Artist Instructor Betty Rothaus:\nhttps://www.artwithelders.org/online-ex
 hibits/
ATTACH;FMTTYPE=image/jpeg:https://www.artwithelders.org/wp-content/uploads
 /Maher-Salama-The-Dawn-and-the-Moon.jpg
CATEGORIES:Art Opening,Online Exhibits,Traveling Exhibits
END:VEVENT
BEGIN:VTIMEZONE
TZID:America/Los_Angeles
X-LIC-LOCATION:America/Los_Angeles
BEGIN:DAYLIGHT
DTSTART:20200308T030000
TZOFFSETFROM:-0800
TZOFFSETTO:-0700
TZNAME:PDT
END:DAYLIGHT
BEGIN:STANDARD
DTSTART:20201101T010000
TZOFFSETFROM:-0700
TZOFFSETTO:-0800
TZNAME:PST
END:STANDARD
END:VTIMEZONE
END:VCALENDAR