BEGIN:VCALENDAR
VERSION:2.0
PRODID:-//wp-events-plugin.com//7.2.3.1//EN
TZID:America/Los_Angeles
X-WR-TIMEZONE:America/Los_Angeles
BEGIN:VEVENT
UID:82@artwithelders.org
DTSTART;TZID=America/Los_Angeles:20260514T130000
DTEND;TZID=America/Los_Angeles:20260514T153000
DTSTAMP:20260409T203043Z
URL:https://www.artwithelders.org/events/never-better-elders-celebration-r
 esource-fair/
SUMMARY:Never Better Elders Celebration & Resource Fair
DESCRIPTION:Never Better Elders Celebration &amp\; Resource Fair\nThu. May 
 14\, 1-3:30p\nSF County Fair Building\, 9th Ave at Lincoln Way\, SF\, CA\n
 AWE will be tabling and also will offer a mixed media workshop in the Crea
 tivity Room at the Never Better Elders Celebration &amp\; Resource Fair.\n
 \n	Over 25 Citywide Resources\n	Live music &amp\; dance performances\n	Eme
 rgency Go Bag raffle\n	Tech Help and Mini Classes\n
ATTACH;FMTTYPE=image/jpeg:https://www.artwithelders.org/wp-content/uploads
 /NBE-Save-Date-Eng-pg-1-Chi-pg-2_Page_1.jpg
CATEGORIES:Events,Featured
END:VEVENT
BEGIN:VTIMEZONE
TZID:America/Los_Angeles
X-LIC-LOCATION:America/Los_Angeles
BEGIN:DAYLIGHT
DTSTART:20260308T030000
TZOFFSETFROM:-0800
TZOFFSETTO:-0700
TZNAME:PDT
END:DAYLIGHT
END:VTIMEZONE
END:VCALENDAR