BEGIN:VCALENDAR
VERSION:2.0
PRODID:-//wp-events-plugin.com//7.2.3.1//EN
TZID:America/Los_Angeles
X-WR-TIMEZONE:America/Los_Angeles
BEGIN:VEVENT
UID:13@artwithelders.org
DTSTART;TZID=America/Los_Angeles:20200815T000000
DTEND;TZID=America/Los_Angeles:20201231T235900
DTSTAMP:20200902T230332Z
URL:https://www.artwithelders.org/events/pandemic-response-art/
SUMMARY:Pandemic Response Art Ongoing Exhibit
DESCRIPTION:Link here to view our ongoing exhibit of work related to the CO
 VID-19 pandemic\n&nbsp\;
ATTACH;FMTTYPE=image/jpeg:https://www.artwithelders.org/wp-content/uploads
 /Pamela.jpg
CATEGORIES:Online Exhibits,Traveling Exhibits
END:VEVENT
BEGIN:VTIMEZONE
TZID:America/Los_Angeles
X-LIC-LOCATION:America/Los_Angeles
BEGIN:DAYLIGHT
DTSTART:20200308T030000
TZOFFSETFROM:-0800
TZOFFSETTO:-0700
TZNAME:PDT
END:DAYLIGHT
BEGIN:STANDARD
DTSTART:20201101T010000
TZOFFSETFROM:-0700
TZOFFSETTO:-0800
TZNAME:PST
END:STANDARD
END:VTIMEZONE
END:VCALENDAR