BEGIN:VCALENDAR
VERSION:2.0
PRODID:-//wp-events-plugin.com//7.2.3.1//EN
TZID:America/Los_Angeles
X-WR-TIMEZONE:America/Los_Angeles
BEGIN:VEVENT
UID:7@artwithelders.org
DTSTART;TZID=America/Los_Angeles:20200301T100000
DTEND;TZID=America/Los_Angeles:20200430T180000
DTSTAMP:20201027T235154Z
URL:https://www.artwithelders.org/events/traveling-exhibit-at-usf-koret-ce
 nter/
SUMMARY:Traveling Exhibit at USF Koret Center
DESCRIPTION:Works from the 2019 27th Annual Show will be on display March 1
  - April 30\, 2020 at the USF Koret Center 2130 Fulton St. SF CA 94117. M-
 F 6 a.m. - 10 p.m.\, Sa/Su 8 a.m. - 6 p.m
ATTACH;FMTTYPE=image/jpeg:https://www.artwithelders.org/wp-content/uploads
 /AWE-Annual-Exhibit.jpg
CATEGORIES:Traveling Exhibits
LOCATION:USF Koret Center\, 2130 Fulton St. \, SF\, CA\, 94117\, United Sta
 tes
X-APPLE-STRUCTURED-LOCATION;VALUE=URI;X-ADDRESS=2130 Fulton St. \, SF\, CA\
 , 94117\, United States;X-APPLE-RADIUS=100;X-TITLE=USF Koret Center:geo:0,
 0
END:VEVENT
BEGIN:VTIMEZONE
TZID:America/Los_Angeles
X-LIC-LOCATION:America/Los_Angeles
BEGIN:STANDARD
DTSTART:20191103T010000
TZOFFSETFROM:-0700
TZOFFSETTO:-0800
TZNAME:PST
END:STANDARD
BEGIN:DAYLIGHT
DTSTART:20200308T030000
TZOFFSETFROM:-0800
TZOFFSETTO:-0700
TZNAME:PDT
END:DAYLIGHT
END:VTIMEZONE
END:VCALENDAR